  BEGIN:VCALENDAR
VERSION:2.0
PRODID:-//eventon.com NONSGML v1.0//EN
CALSCALE:GREGORIAN
METHOD:PUBLISH
BEGIN:VEVENT
UID:69eba42f7410b
DTSTAMP:20260424T171111Z
DTSTART:20250807T100000Z
DTEND:20250807T123000Z
LOCATION:
SUMMARY:MIDA and MUFG Bank Partner to Drive Malaysia’s Innovation Economy
DESCRIPTION:MIDA and MUFG Bank (Malaysia) Berhad signed a Memorandum of Und
 erstanding (MoU) on 7 August 2025 to strengthen investment flows into Malay
 sia. The partnership will target high-value sectors including semiconductor
 s\,  specialty chemicals\,  aerospace\,  pharmaceuticals\,  medical devices
 \,  electric vehicles\,  digital economy\,  and green technology. MIDA CEO\
 ,  Datuk Sikh Shamsul Ibrahim Sikh[..]\nhttps://www.mida.gov.my/events/mida
 -and-mufg-bank-partner-to-drive-malaysias-innovation-economy/
URL:https://www.mida.gov.my/events/mida-and-mufg-bank-partner-to-drive-malaysias-innovation-economy/
END:VEVENT
END:VCALENDAR